BEGIN:VCALENDAR
VERSION:2.0
PRODID:-//AudioTheme 3.0.2
BEGIN:VEVENT
UID:urn:uuid:3513017a-7030-4d83-bad3-af89930b93aa
URL:https://maryflower.com/shows/10th-annual-menucha-blues-in-the-gorge/
DTSTART;VALUE=DATE:20230927
SUMMARY:10th Annual Menucha Blues in the Gorge
DESCRIPTION:9/27-10/1  Oregon's finest guitar intensive. www.menucha.org/programs/blues  Guy Davis\, Christina Olson\, Mamie Minch\, Lea Gilmore and Mary Flower will be on staff!
LOCATION:Menucha Retreat\, 38711 E Historic Columbia River Highway\, Corbett\, OR\, United States\, 97019
END:VEVENT
END:VCALENDAR
