BEGIN:VCALENDAR
VERSION:2.0
PRODID:-//AudioTheme 3.0.2
BEGIN:VEVENT
UID:urn:uuid:5f1a4fb8-d04c-4df7-99f4-bd8485ba97d0
URL:https://maryflower.com/shows/2022-winter-music-festival/
DTSTART;TZID=GMT:20220129T000000
SUMMARY:2022 Winter Music Festival
LOCATION:Florence Events Ctr.\, 715 Quince St\, Florence\, OR
END:VEVENT
END:VCALENDAR
