BEGIN:VCALENDAR
VERSION:2.0
PRODID:-//AudioTheme 3.0.2
BEGIN:VEVENT
UID:urn:uuid:89e85699-a5fd-4333-bcef-27bd7d12e6ac
URL:https://maryflower.com/shows/50th-anniversary-artichoke-music-celebration-concert/
DTSTART;TZID=GMT:20230611T000000
SUMMARY:50th Anniversary Artichoke Music Celebration Concert
DESCRIPTION:A huge list of Portland faves...Kate Power and Steve Einhorn\, Arietta Ward\, Tom May\, etc.  https://albertarosetheatre.com/event/artichoke-community-music-50th-anniversary-concert/alberta-rose-theatre/portland-oregon/
LOCATION:Alberta Rose Theater\, 3000 NE Alberta St\, Portland\, OR
END:VEVENT
END:VCALENDAR
