BEGIN:VCALENDAR
VERSION:2.0
PRODID:-//AudioTheme 3.0.2
BEGIN:VEVENT
UID:urn:uuid:710c8894-d941-4a8b-bc2a-5460420f82bf
URL:https://maryflower.com/shows/acoustic-alaska-guitar-camp/
DTSTART;VALUE=DATE:20220828
SUMMARY:Acoustic Alaska Guitar Camp
DESCRIPTION:August 28-Sept 3. Location\, location plus some great music! Acousticalaska.com
LOCATION:Acoustic Alaska Guitar Camp\, Wasilla\, Alaska
END:VEVENT
END:VCALENDAR
