BEGIN:VCALENDAR
VERSION:2.0
PRODID:-//AudioTheme 3.0.2
BEGIN:VEVENT
UID:urn:uuid:ae44185f-84fc-4b2c-96b0-48fbca5c962b
URL:https://maryflower.com/shows/argenta-acoustic-music-series/
DTSTART;VALUE=DATE:20230518
SUMMARY:Argenta Acoustic Music Series in Little Rock, AR
LOCATION:The Joint\, 301 Main St\, Little Rock\, AR
END:VEVENT
END:VCALENDAR
