BEGIN:VCALENDAR
VERSION:2.0
PRODID:-//AudioTheme 3.0.2
BEGIN:VEVENT
UID:urn:uuid:b94e389a-ff68-4edd-8ff1-0d5820ac02c2
URL:https://maryflower.com/shows/artichoke-music-with-adam-scramstad/
DTSTART;VALUE=DATE:20220820
SUMMARY:Artichoke Music with Adam Scramstad
LOCATION:Artichoke Music\, 2001 SE Powell Blvd\, Portland\, OR\, United States\, 97202
END:VEVENT
END:VCALENDAR
