BEGIN:VCALENDAR
VERSION:2.0
PRODID:-//AudioTheme 3.0.2
BEGIN:VEVENT
UID:urn:uuid:a453c246-48ce-420c-bddf-79154ae285a8
URL:https://maryflower.com/shows/ashokan-guitar-camp-2/
DTSTART;VALUE=DATE:20220725
SUMMARY:Ashokan Guitar Camp
DESCRIPTION:In the heart of the Catskills\, one fantastic place to learn music.   Ashokancenter.org   July 25-28\, 2022. Staff includes Mamie Minch\, Pat Donohue\, Larry Baione\, Molly Mason\, Victor Lissabet\, Rebecca Frazier and me.
LOCATION:Ashokan Guitar Camp\, 477 Beaverkill Rd\, Olivebridge\, NY\, United States
END:VEVENT
END:VCALENDAR
