BEGIN:VCALENDAR
VERSION:2.0
PRODID:-//AudioTheme 3.0.2
BEGIN:VEVENT
UID:urn:uuid:1944922d-a31f-48a4-afb6-1f68817dc704
URL:https://maryflower.com/shows/at-the-nola-jazz-museum-with-bruce-sunpie-barnes/
DTSTART;TZID=GMT:20230526T000000
SUMMARY:At the NOLA Jazz Museum with Bruce "Sunpie" Barnes
LOCATION:Jazz Museum\, 400 Esplanade\, New Orleans\, Louisiana
END:VEVENT
END:VCALENDAR
