BEGIN:VCALENDAR
VERSION:2.0
PRODID:-//AudioTheme 3.0.2
BEGIN:VEVENT
UID:urn:uuid:ed552700-42cf-466d-8b6a-69be753241e2
URL:https://maryflower.com/shows/bellingham-wa-house-concert/
DTSTART;TZID=GMT:20221119T000000
SUMMARY:Bellingham, WA House Concert
DESCRIPTION:For tickets and info\, email: Dianne at  6stringirl@gmail.com
LOCATION:Bellingham\, WA House Concert\, North Bellingham\, Bellingham\, WA
END:VEVENT
END:VCALENDAR
