BEGIN:VCALENDAR
VERSION:2.0
PRODID:-//AudioTheme 3.0.2
BEGIN:VEVENT
UID:urn:uuid:5812033e-8ba0-4c1c-aae4-7fa21979c387
URL:https://maryflower.com/shows/birthday-show-with-leon-cotter/
DTSTART;TZID=GMT:20260208T000000
SUMMARY:Show w/the great Leon Cotter
DESCRIPTION:Leon is a virtuosic clarinet player who is mostly on the road with the California Honey Drops. We are lucky to have him in Portland!  Playing w/Leon will be the most fun way for me to celebrate a band birthday. This house is near the South end of Laurelhurst Park and you Abbie will give you the address when you register.  For tickets and info: www.froggie.com
LOCATION:Abbie Weissenbloom's House Concert Series\, Inner Portland\, Portland\, Oregon\, United States\, 97213
END:VEVENT
END:VCALENDAR
