BEGIN:VCALENDAR
VERSION:2.0
PRODID:-//AudioTheme 3.0.2
BEGIN:VEVENT
UID:urn:uuid:4def59e0-3f99-4b5a-99db-e62c2daa8fce
URL:https://maryflower.com/shows/blues-guitar-workshop/
DTSTART;TZID=GMT:20240811T000000
SUMMARY:Blues Guitar Hands On Workshop
DESCRIPTION:3:00-4:30 PM Sponsored by Portland FolkMusic Society  $50  https://portlandfolkmusic.org/content.aspx?page_id=4002&club_id=748368&item_id=2278139&actr=3
LOCATION:Reedwood Friends Church\, 2901 SE Steele St\, Portland\, OR\, United States\, 97202
END:VEVENT
END:VCALENDAR
