BEGIN:VCALENDAR
VERSION:2.0
PRODID:-//AudioTheme 3.0.2
BEGIN:VEVENT
UID:urn:uuid:727893c7-a96d-4c96-80af-81bb859f6150
URL:https://maryflower.com/shows/blues-in-gorge-staff-concert-3/
DTSTART;TZID=GMT:20230930T000000
SUMMARY:Blues in Gorge staff concert
DESCRIPTION:Featuring Guy Davis\, Christina Olson\, Mamie Minch\, Lea Gilmore and Mary Flower.
LOCATION:Corbett Grange Hall 267\, 37493 Grange Hall Rd\, Corbett\, OR
END:VEVENT
END:VCALENDAR
