BEGIN:VCALENDAR
VERSION:2.0
PRODID:-//AudioTheme 3.0.2
BEGIN:VEVENT
UID:urn:uuid:b89c23e7-6216-4616-8dfd-0ffdfc2ac857
URL:https://maryflower.com/shows/blues-in-gorge-staff-concert-4/
DTSTART;TZID=GMT:20261006T000000
SUMMARY:Blues in Gorge / Guitar Masters Concert
DESCRIPTION:I'll be joined by Bill Kirchen\, Vance Gilbert and Alvin Youngblood Hart for this 
LOCATION:Alberta Rose Theater\, 3000 NE Alberta St\, Portland\, OR
END:VEVENT
END:VCALENDAR
