BEGIN:VCALENDAR
VERSION:2.0
PRODID:-//AudioTheme 3.0.2
BEGIN:VEVENT
UID:urn:uuid:179301ae-f589-4333-b5d9-af2f1b976683
URL:https://maryflower.com/shows/blues-in-gorge-staff/
DTSTART;TZID=GMT:20230926T000000
SUMMARY:"Blues in Gorge" staff including Mamie Minch, Kristina Olsen, Mary FLower
DESCRIPTION:Tickets $25 and dinner available for $20.
LOCATION:Alberta Abbey\, 123 NE Alberta\, Portland\, OR\, United States
END:VEVENT
END:VCALENDAR
