BEGIN:VCALENDAR
VERSION:2.0
PRODID:-//AudioTheme 3.0.2
BEGIN:VEVENT
UID:urn:uuid:58c9acdb-1917-4b90-9e79-8e09527cad65
URL:https://maryflower.com/shows/blues-in-the-gorge-6/
DTSTART;VALUE=DATE:20241002
SUMMARY:Blues in the Gorge
DESCRIPTION:Oct 2-6  One fine guitar learning intensive. For the line up\, go to www.menucha.org/programs/blues
LOCATION:Menucha Retreat\, 38711 E Historic Columbia River Highway\, Corbett\, OR\, United States\, 97019
END:VEVENT
END:VCALENDAR
