BEGIN:VCALENDAR
VERSION:2.0
PRODID:-//AudioTheme 3.0.2
BEGIN:VEVENT
UID:urn:uuid:acb96bf3-6c3e-43c0-b7a0-718e41bc4f81
URL:https://maryflower.com/shows/celebration-of-life-for-greg-johnson/
DTSTART;TZID=GMT:20220501T000000
SUMMARY:Celebration of Life for Greg Johnson
LOCATION:Alberta Abbey\, 123 NE Alberta\, Portland\, OR\, United States
END:VEVENT
END:VCALENDAR
