BEGIN:VCALENDAR
VERSION:2.0
PRODID:-//AudioTheme 3.0.2
BEGIN:VEVENT
UID:urn:uuid:4939e835-91a4-40cb-b149-755b73663981
URL:https://maryflower.com/shows/centrum-acoustic-blues-workshop/
DTSTART;VALUE=DATE:20230731
SUMMARY:Centrum Acoustic Blues Workshop
DESCRIPTION:July 31-Aug 5 A week long teaching intensive in a beautiful location in Port Townsend\, WA.  Centrum.org
LOCATION:Fort Worden - McCurdy Pavilion\, undefined undefined\, Port Townsend\, WA\, United States\, 98368
END:VEVENT
END:VCALENDAR
