BEGIN:VCALENDAR
VERSION:2.0
PRODID:-//AudioTheme 3.0.2
BEGIN:VEVENT
UID:urn:uuid:84e1e17e-b425-46e3-aec3-1166dab37569
URL:https://maryflower.com/shows/centrum-blues/
DTSTART;VALUE=DATE:20240729
SUMMARY:Centrum Blues
DESCRIPTION:July 29-Aug 4  A wonderful week of teaching and playing in one beautiful location.  www.Centrum.org
LOCATION:Centrum BLues\, Ft Wardon State Park\, Port Townsend\, WA
END:VEVENT
END:VCALENDAR
