BEGIN:VCALENDAR
VERSION:2.0
PRODID:-//AudioTheme 3.0.2
BEGIN:VEVENT
UID:urn:uuid:17e9b910-afb5-40f2-8174-1138e66d8e1f
URL:https://maryflower.com/shows/common-ground-on-the-hill-3/
DTSTART;VALUE=DATE:20220627
SUMMARY:Common Ground on the Hill
DESCRIPTION:June 27-July 1\, Common Ground is a great camp near Baltimore and this particular week will be virtual and you can learn from the comfort of home!
LOCATION:McDaniel College\, Westminster\, MD
END:VEVENT
END:VCALENDAR
