BEGIN:VCALENDAR
VERSION:2.0
PRODID:-//AudioTheme 3.0.2
BEGIN:VEVENT
UID:urn:uuid:2666e62d-fbc2-4ee2-abad-e6cf2ba010f5
URL:https://maryflower.com/shows/concert-w-michael-jerome-browne/
DTSTART;TZID=GMT:20240627T000000
SUMMARY:Concert w/Michael Jerome Browne in Waterloo
DESCRIPTION:Link for tickets: https://sidedooraccess.com/shows/1kTWZElLYskBe3YH6CUv
LOCATION:Emmanuel United Church\, 22 Bridgeport Road W\, Waterloo\, Ontario
END:VEVENT
END:VCALENDAR
