BEGIN:VCALENDAR
VERSION:2.0
PRODID:-//AudioTheme 3.0.2
BEGIN:VEVENT
UID:urn:uuid:980d2383-e148-40a5-97e6-049150ac0367
URL:https://maryflower.com/shows/country-blues-showcase-w-leon-and-me-and-more/
DTSTART;TZID=GMT:20260222T000000
SUMMARY:Country Blues Showcase w/Leon and me and more...
DESCRIPTION:A great line up at this event! Tevis Hodge J\, Dumpster Joe\, Leon Cotter and me. Looking forward to some fun!  Tickets $25\, https://aftontickets.com/cart/view-master-cart
LOCATION:Hoku\, 1125 SE Madison St\, Portland\, OR
END:VEVENT
END:VCALENDAR
