BEGIN:VCALENDAR
VERSION:2.0
PRODID:-//AudioTheme 3.0.2
BEGIN:VEVENT
UID:urn:uuid:3ca24dea-16d8-4a23-9f85-707df5ecb76d
URL:https://maryflower.com/shows/crossroads-music-workshop/
DTSTART;TZID=GMT:20221017T000000
SUMMARY:Crossroads Music workshop
LOCATION:Crossroads Music Workshop W/Eric Lugosch\, 2100 Lawrence St\, Port Townsend\, WA
END:VEVENT
END:VCALENDAR
