BEGIN:VCALENDAR
VERSION:2.0
PRODID:-//AudioTheme 3.0.2
BEGIN:VEVENT
UID:urn:uuid:f1e5f846-06c3-41e6-9725-da942e1276a2
URL:https://maryflower.com/shows/delphi-opera-house-w-eric-lugosch/
DTSTART;TZID=GMT:20241012T000000
SUMMARY:Delphi Opera House w/Eric Lugosch
DESCRIPTION:One of the best venues I've ever played in my old hometown!
LOCATION:Delphi Opera House\, 109 S Washington St\, Delphi\, IN
END:VEVENT
END:VCALENDAR
