BEGIN:VCALENDAR
VERSION:2.0
PRODID:-//AudioTheme 3.0.2
BEGIN:VEVENT
UID:urn:uuid:1c0047a5-9ac8-42c4-808e-3cbbff1ab1c0
URL:https://maryflower.com/shows/double-bill-w-jeff-rhymes/
DTSTART;TZID=GMT:20240407T000000
SUMMARY:Double bill w/ Jeff Rhymes&Peter Nevins
LOCATION:Turn Turn Turn\, 8 NE Killingsworth\, Portland\, OR
END:VEVENT
END:VCALENDAR
