BEGIN:VCALENDAR
VERSION:2.0
PRODID:-//AudioTheme 3.0.2
BEGIN:VEVENT
UID:urn:uuid:92fe6dae-4374-47ff-b5cc-df9a16b25444
URL:https://maryflower.com/shows/double-bill-with-great-aunt-from-melbourne/
DTSTART;TZID=GMT:20230127T000000
SUMMARY:Double Bill with Great Aunt from Melbourne
LOCATION:Artichoke Music\, 2007 SE Powell\, Portland\, OR
END:VEVENT
END:VCALENDAR
