BEGIN:VCALENDAR
VERSION:2.0
PRODID:-//AudioTheme 3.0.2
BEGIN:VEVENT
UID:urn:uuid:c2d136eb-cffb-4645-a17d-74d9eb1d4996
URL:https://maryflower.com/shows/empire-theater/
DTSTART;TZID=GMT:20240413T000000
SUMMARY:Empire Theater in North Dakota
DESCRIPTION:A benefit concert w/Tom Brousseau and othes--a benefit for a new Children's Museum.
LOCATION:Empire Theater\, 415 Demers Av\, Grand Forks\, North Dakota
END:VEVENT
END:VCALENDAR
