BEGIN:VCALENDAR
VERSION:2.0
PRODID:-//AudioTheme 3.0.2
BEGIN:VEVENT
UID:urn:uuid:f80eac0a-f3bf-4f31-a1a5-3c6d481242ca
URL:https://maryflower.com/shows/evanston-space-with-eric-lugosch/
DTSTART;VALUE=DATE:20241014
SUMMARY:Evanston Space with Eric Lugosch
LOCATION:Evanston Space\, 1245 Chicago Av\, Evanston\, IL
END:VEVENT
END:VCALENDAR
