BEGIN:VCALENDAR
VERSION:2.0
PRODID:-//AudioTheme 3.0.2
BEGIN:VEVENT
UID:urn:uuid:86739f35-63d1-4b31-8a38-6464bf32ac81
URL:https://maryflower.com/shows/folk-house-in-golden-valley-mn-w-leon-cotter/
DTSTART;TZID=GMT:20260814T000000
SUMMARY:Folk House in Golden Valley, MN w/Leon Cotter
LOCATION:Folk House\, 4500 Culver Rd\, Golden Valley\, MN
END:VEVENT
END:VCALENDAR
