BEGIN:VCALENDAR
VERSION:2.0
PRODID:-//AudioTheme 3.0.2
BEGIN:VEVENT
UID:urn:uuid:3a4f8aba-4d65-4d9b-a739-cfddb9489dd4
URL:https://maryflower.com/shows/gig-2820/
DTSTART;VALUE=DATE:20220708
SUMMARY:California Coast Music Camp
DESCRIPTION:https://www.musiccamp.org/  July 9-15 and a stellar line of of teachers!  
LOCATION:California Coast Music Camp\, Monterey\, CA
END:VEVENT
END:VCALENDAR
