BEGIN:VCALENDAR
VERSION:2.0
PRODID:-//AudioTheme 3.0.2
BEGIN:VEVENT
UID:urn:uuid:d52e3159-f4c0-4f95-a7a0-52fdf48f7220
URL:https://maryflower.com/shows/gig-2873/
DTSTART;TZID=GMT:20221002T000000
SUMMARY:W/Eric Lugosch in Corvallis, OR
LOCATION:Old World Deli\, 341 SW 2nd St\, Corvallis\, OR
END:VEVENT
END:VCALENDAR
