BEGIN:VCALENDAR
VERSION:2.0
PRODID:-//AudioTheme 3.0.2
BEGIN:VEVENT
UID:urn:uuid:54eae6c9-be14-45e5-9122-8c199fa14098
URL:https://maryflower.com/shows/gig-3030/
DTSTART;TZID=GMT:20240127T000000
SUMMARY:Mary solo
DESCRIPTION:1/21 postponed due to ice!!  Mary plays 4-7 PM Sat. 1/27.
LOCATION:Rockwood Market Hall\, 458 SE 185th Av\, Portland\, OR
END:VEVENT
END:VCALENDAR
