BEGIN:VCALENDAR
VERSION:2.0
PRODID:-//AudioTheme 3.0.2
BEGIN:VEVENT
UID:urn:uuid:a148ecf8-864a-4d4c-8c77-e40efc698aeb
URL:https://maryflower.com/shows/gig-3057/
DTSTART;TZID=GMT:20240615T000000
SUMMARY:House Concert VA
DESCRIPTION:Contact John... john_soper@med.unc.edu to reserve a seat. BYOB. Tickets $20. Appetizers and soft drinks available
LOCATION:VA House Concert\, 70 N Colonial Lane\, Boyce\, VA
END:VEVENT
END:VCALENDAR
