BEGIN:VCALENDAR
VERSION:2.0
PRODID:-//AudioTheme 3.0.2
BEGIN:VEVENT
UID:urn:uuid:e98899f5-0c19-42d9-8d39-28a64419098d
URL:https://maryflower.com/shows/gig-3077/
DTSTART;TZID=GMT:20240611T000000
SUMMARY:St Cloud, MN
LOCATION:BoDiddley's Deli\, 129 25th Ave S\, St Cloud\, MN
END:VEVENT
END:VCALENDAR
