BEGIN:VCALENDAR
VERSION:2.0
PRODID:-//AudioTheme 3.0.2
BEGIN:VEVENT
UID:urn:uuid:68c12413-1b2e-4e8e-b641-4daed5e5b40e
URL:https://maryflower.com/shows/gig-3116/
DTSTART;TZID=GMT:20240629T000000
SUMMARY:Workshop with Michael Jerome Browne
DESCRIPTION:More information soon!
LOCATION:Ottawa Hands On Guitar Workshop with Michael Jerome Browne\, private home\, Ottawa\, Ontario\, Canada
END:VEVENT
END:VCALENDAR
