BEGIN:VCALENDAR
VERSION:2.0
PRODID:-//AudioTheme 3.0.2
BEGIN:VEVENT
UID:urn:uuid:84a6f65e-db70-4913-a14a-13ae4bcab925
URL:https://maryflower.com/shows/gig-3133/
DTSTART;TZID=GMT:20240721T000000
SUMMARY:Fund Raiser for Janelle Bynum and Maria Perez
DESCRIPTION:This is an outdoor fundraiser for Dems Janelle Bynum and Marie Perez\, 3:00-5 PM at a private home in the Mt.Tabor area.  If you'd like to attend\, call 503-490-9146  to add your name and get the address.
LOCATION:Democratic Fund Raiser\, Private Home Mt Tabor area\, Portland\, OR
END:VEVENT
END:VCALENDAR
