BEGIN:VCALENDAR
VERSION:2.0
PRODID:-//AudioTheme 3.0.2
BEGIN:VEVENT
UID:urn:uuid:48d3b841-2097-4c5c-b4e9-06fa731fa1c7
URL:https://maryflower.com/shows/gig-3309/
DTSTART;VALUE=DATE:20260726
SUMMARY:Teaching at Guitar Week at Swannanoa Gathering
DESCRIPTION:July 26-Aug. 1   Mary will be teaching at Guitar Week with a gaggle of great players like Pat Donohue\, Clive Carrol\, Cory Seznic and many more. 
LOCATION:Swannanoa Gathering\, Warren Wilson College 701 Warren Wilson Rd.\, Swannanoa\, North Carolina
END:VEVENT
END:VCALENDAR
