BEGIN:VCALENDAR
VERSION:2.0
PRODID:-//AudioTheme 3.0.2
BEGIN:VEVENT
UID:urn:uuid:b75d8f9b-098c-4d9a-82f2-7948c4e88f7a
URL:https://maryflower.com/shows/great-guitar-camp/
DTSTART;VALUE=DATE:20250117
SUMMARY:Great Guitar Camp
DESCRIPTION:www.picknbow.com/great-guitar-camp  1/17-1/19 with Jon Shain\, Danny Gotham and more.
LOCATION:Old Murphy School\, 3717 Murphy School Rd\, Durham\, NC
END:VEVENT
END:VCALENDAR
