BEGIN:VCALENDAR
VERSION:2.0
PRODID:-//AudioTheme 3.0.2
BEGIN:VEVENT
UID:urn:uuid:f6f843bd-4927-4114-a2be-b1b3e7da8d10
URL:https://maryflower.com/shows/guitar-workshop-at-the-waterworks/
DTSTART;TZID=GMT:20230317T000000
SUMMARY:Hands On Guitar Workshop at The Waterworks in St Augustine, FL
DESCRIPTION:Info on Event Brite:  https://www.eventbrite.com/e/guitar-workshop-with-mary-flower-tickets-536240809697?aff=ebdshpsearchautocomplete
LOCATION:Waterworks\, 1458 San Marco Blvd.\, Saint Augustine\, Fl
END:VEVENT
END:VCALENDAR
