BEGIN:VCALENDAR
VERSION:2.0
PRODID:-//AudioTheme 3.0.2
BEGIN:VEVENT
UID:urn:uuid:caa2d594-2131-4943-b0c0-19a7dde3befd
URL:https://maryflower.com/shows/guitar-workshop-old-town-school-of-folk-music/
DTSTART;TZID=GMT:20241013T000000
SUMMARY:Guitar Workshop @ Old Town School of Folk Music
DESCRIPTION:https://www.oldtownschool.org/classes/detail/?courseid=7607
LOCATION:Old Town School of Folk Music\, 4544 North Lincoln Avenue\, Chicago\, IL\, United States\, 60625
END:VEVENT
END:VCALENDAR
