BEGIN:VCALENDAR
VERSION:2.0
PRODID:-//AudioTheme 3.0.2
BEGIN:VEVENT
UID:urn:uuid:2e839004-ae19-43fa-a3d0-49c7698b851a
URL:https://maryflower.com/shows/hands-on-guitar-workshop-7/
DTSTART;TZID=GMT:20230514T000000
SUMMARY:Hands On Guitar Workshop
DESCRIPTION:For info\, contact Kenneth: Kentillery@gmail.com
LOCATION:Garland County Library\, 1427 Malvern Av\, Hot Springs\, Arkansas\, United States\, 72701
END:VEVENT
END:VCALENDAR
