BEGIN:VCALENDAR
VERSION:2.0
PRODID:-//AudioTheme 3.0.2
BEGIN:VEVENT
UID:urn:uuid:2626c7dd-2033-474d-96d4-8186dec36305
URL:https://maryflower.com/shows/house-con-in-carrboro-nc/
DTSTART;TZID=GMT:20250116T000000
SUMMARY:House Con. in Carrboro, NC
DESCRIPTION:Email Sarah to reserve and get address.  SGWMEY@gmail.com
LOCATION:House Con. Carrboro\, NC\, Email host (below)\, Carrboro\, NC
END:VEVENT
END:VCALENDAR
