BEGIN:VCALENDAR
VERSION:2.0
PRODID:-//AudioTheme 3.0.2
BEGIN:VEVENT
UID:urn:uuid:73551e14-13ff-44eb-b0b1-5086b4839e25
URL:https://maryflower.com/shows/house-concert-w-suzy-thompson/
DTSTART;TZID=GMT:20241122T000000
SUMMARY:House concert w/Suzy Thompson
DESCRIPTION:To reserve a seat and get the address email: Tom.herrinab@gmail.com
LOCATION:House Concert w/Suzy Thompson\, email Tom for address\, Richmond hills\, CA
END:VEVENT
END:VCALENDAR
