BEGIN:VCALENDAR
VERSION:2.0
PRODID:-//AudioTheme 3.0.2
BEGIN:VEVENT
UID:urn:uuid:f01c9782-eccd-4395-afcd-e3862166cb93
URL:https://maryflower.com/shows/hughs-room-w-michael-jerome-browne/
DTSTART;VALUE=DATE:20240626
SUMMARY:Hugh's Room w/Michael Jerome Browne in Toronto
LOCATION:Hugh's Room\, 296 Broadview Av\, Toronto\, Ontario\, Canada
END:VEVENT
END:VCALENDAR
