BEGIN:VCALENDAR
VERSION:2.0
PRODID:-//AudioTheme 3.0.2
BEGIN:VEVENT
UID:urn:uuid:74436a25-1eae-492c-b4ab-862c72223530
URL:https://maryflower.com/shows/in-missouri/
DTSTART;TZID=GMT:20241019T000000
SUMMARY:The Focal Point in St Louis
DESCRIPTION:With special St Louis guests Nick Pence and Ethan Leinwand. This will be a collaborative night of blues and ragtime piano\, guitar and slide guitar!
LOCATION:The Focal Point\, 2720 Sutton Blvd\, Maplewood\, MO
END:VEVENT
END:VCALENDAR
