BEGIN:VCALENDAR
VERSION:2.0
PRODID:-//AudioTheme 3.0.2
BEGIN:VEVENT
UID:urn:uuid:608c3b61-86a9-4405-8b0a-35b6c199741f
URL:https://maryflower.com/shows/in-mn-with-pat-donohue/
DTSTART;TZID=GMT:20240612T000000
SUMMARY:In MN with Pat Donohue and Dan Newton
DESCRIPTION:This will be the 3rd Anniversary of Pat's shows at the Midway. Make sure you get there early for a seat!
LOCATION:The Midway Saloon\, 1567 University Ave W\, St Paul\, MN
END:VEVENT
END:VCALENDAR
