BEGIN:VCALENDAR
VERSION:2.0
PRODID:-//AudioTheme 3.0.2
BEGIN:VEVENT
UID:urn:uuid:b325da37-4e91-41e7-b184-202e56473675
URL:https://maryflower.com/shows/jo-bar-w-bbq-boys-2/
DTSTART;TZID=GMT:20241113T000000
SUMMARY:Jo Bar w/BBQ Boys
DESCRIPTION:Great food\, drink and music! 
LOCATION:Jo Bar\, 715 NW 23rd\, Portland\, OR\, United States\, 97213
END:VEVENT
END:VCALENDAR
