BEGIN:VCALENDAR
VERSION:2.0
PRODID:-//AudioTheme 3.0.2
BEGIN:VEVENT
UID:urn:uuid:87041f88-2ed9-4550-a372-7baa324a3617
URL:https://maryflower.com/shows/jo-bar-w-bbq-boys/
DTSTART;TZID=GMT:20220629T000000
SUMMARY:Jo Bar w/BBQ Boys
DESCRIPTION:Back in the saddle with one of our favorite places.
LOCATION:Jo Bar\, 715 NW 23rd\, Portland\, OR\, United States\, 97213
END:VEVENT
END:VCALENDAR
