BEGIN:VCALENDAR
VERSION:2.0
PRODID:-//AudioTheme 3.0.2
BEGIN:VEVENT
UID:urn:uuid:f42b150f-540c-4fe1-8f86-1699e37955ca
URL:https://maryflower.com/shows/jobar-with-the-bbq-boys/
DTSTART;TZID=GMT:20230830T000000
SUMMARY:JoBar with the BBQ Boys
LOCATION:Jo Bar\, 715 NW 23rd\, Portland\, OR\, United States\, 97213
END:VEVENT
END:VCALENDAR
