BEGIN:VCALENDAR
VERSION:2.0
PRODID:-//AudioTheme 3.0.2
BEGIN:VEVENT
UID:urn:uuid:7afc2eb0-da79-4e54-94dd-b96daca468e7
URL:https://maryflower.com/shows/kenyon-hall-in-seattle-with-doc-and-spud/
DTSTART;TZID=GMT:20240906T000000
SUMMARY:Kenyon Hall in Seattle with Doc and Spud
LOCATION:Kenyon Hall\, 7904 35th Ave SW\, Seattle\, WA
END:VEVENT
END:VCALENDAR
