BEGIN:VCALENDAR
VERSION:2.0
PRODID:-//AudioTheme 3.0.2
BEGIN:VEVENT
UID:urn:uuid:a3c866d8-bac6-4873-8514-02ee4a443fd9
URL:https://maryflower.com/shows/lake-oswego-library-w-leon-cotter/
DTSTART;TZID=GMT:20260901T000000
SUMMARY:Lake Oswego Library w/Leon Cotter
DESCRIPTION:This is one of my favorite gigs. Get there early as the many aisles of books get filled up with eager listeners!
LOCATION:Lake Oswego Library\, 706 4th St\, Lake Oswego\, OR
END:VEVENT
END:VCALENDAR
